BEGIN:VCALENDAR
VERSION:2.0
PRODID:-//Last Chance Ranch - ECPv6.15.17//NONSGML v1.0//EN
CALSCALE:GREGORIAN
METHOD:PUBLISH
X-WR-CALNAME:Last Chance Ranch
X-ORIGINAL-URL:https://lastchanceranch.org
X-WR-CALDESC:Events for Last Chance Ranch
REFRESH-INTERVAL;VALUE=DURATION:PT1H
X-Robots-Tag:noindex
X-PUBLISHED-TTL:PT1H
BEGIN:VTIMEZONE
TZID:America/New_York
BEGIN:DAYLIGHT
TZOFFSETFROM:-0500
TZOFFSETTO:-0400
TZNAME:EDT
DTSTART:20240310T070000
END:DAYLIGHT
BEGIN:STANDARD
TZOFFSETFROM:-0400
TZOFFSETTO:-0500
TZNAME:EST
DTSTART:20241103T060000
END:STANDARD
BEGIN:DAYLIGHT
TZOFFSETFROM:-0500
TZOFFSETTO:-0400
TZNAME:EDT
DTSTART:20250309T070000
END:DAYLIGHT
BEGIN:STANDARD
TZOFFSETFROM:-0400
TZOFFSETTO:-0500
TZNAME:EST
DTSTART:20251102T060000
END:STANDARD
BEGIN:DAYLIGHT
TZOFFSETFROM:-0500
TZOFFSETTO:-0400
TZNAME:EDT
DTSTART:20260308T070000
END:DAYLIGHT
BEGIN:STANDARD
TZOFFSETFROM:-0400
TZOFFSETTO:-0500
TZNAME:EST
DTSTART:20261101T060000
END:STANDARD
END:VTIMEZONE
BEGIN:VEVENT
DTSTART;TZID=America/New_York:20250710T170000
DTEND;TZID=America/New_York:20250710T210000
DTSTAMP:20260422T070049
CREATED:20250508T131907Z
LAST-MODIFIED:20250516T165732Z
UID:10000128-1752166800-1752181200@lastchanceranch.org
SUMMARY:Red Robin Dine & Donate in Quakertown
DESCRIPTION:Join Last Chance Ranch at Red Robin on July 10th 5pm to 9pm\nfor a great meal.\nThis is a great dinner to end a hot summer day!! \nPlease show your server a paper or digital(from your phone) of the flyer and Red Robin will donate 20% of your bill to Last Chance Ranch. \n 
URL:https://lastchanceranch.org/event/red-robin-dine-donate-in-quakertown/
LOCATION:Red Robin\, 690 S. West End Blvd\, Quakertown\, PA\, United States
ATTACH;FMTTYPE=image/png:https://lastchanceranch.org/wp-content/uploads/2025/05/fundraiser-flyer.png
END:VEVENT
BEGIN:VEVENT
DTSTART;TZID=America/New_York:20250725T080000
DTEND;TZID=America/New_York:20250725T170000
DTSTAMP:20260422T070049
CREATED:20250626T150510Z
LAST-MODIFIED:20250626T151002Z
UID:10000131-1753430400-1753462800@lastchanceranch.org
SUMMARY:Tack Swap / Artisan Market
DESCRIPTION:Calling All Horse Lovers\, Ranch Owners & Crafters! \n\n\n TACK SWAP at Last Chance Ranch!\n Friday & Saturday\, July 25–26\, 2025\n 10:00 AM – 3:00 PM\n \n Indoors at Last Chance Ranch\, Quakertown\, PA (Rain or Shine!)\n\n\nHave extra tack you’re ready to part with? Crafty goods to share? We’ve got just the spot for you!\n \n\n\n Sell used tack & horse gear\n Craft vendors welcome\n No live animal sales\n Food & drinks available for purchase\n 8 ft & 16 ft vendor spaces\n Choose one or both days!\n\n\n To reserve your space:\nClick here to fill out the vendor form and email it to denise@lastchanceranch.org\n\n\nLet’s make room in those barns and support our local horse-loving community! \n\n\n#TackSwap #LastChanceRanch #HorseLoversUnite #EquineEvent #QuakertownPA #BarnSale #CraftVendors #SupportLocal #RainOrShine #TackSale\n\n\n\n\n 
URL:https://lastchanceranch.org/event/tack-swap-artisan-market/2025-07-25/
LOCATION:Last Chance Ranch\, 10 Beck Road\, Quakertown\, PA\, 18951\, United States
ATTACH;FMTTYPE=image/png:https://lastchanceranch.org/wp-content/uploads/2025/06/Tack-Swap-small.png
END:VEVENT
END:VCALENDAR